BEGIN:VCALENDAR
VERSION:2.0
PRODID:-//Université de Caen Normandie - ECPv6.15.18//NONSGML v1.0//EN
CALSCALE:GREGORIAN
METHOD:PUBLISH
X-WR-CALNAME:Université de Caen Normandie
X-ORIGINAL-URL:https://www.unicaen.fr
X-WR-CALDESC:Évènements pour Université de Caen Normandie
REFRESH-INTERVAL;VALUE=DURATION:PT1H
X-Robots-Tag:noindex
X-PUBLISHED-TTL:PT1H
BEGIN:VTIMEZONE
TZID:Europe/Paris
BEGIN:DAYLIGHT
TZOFFSETFROM:+0100
TZOFFSETTO:+0200
TZNAME:CEST
DTSTART:20200329T010000
END:DAYLIGHT
BEGIN:STANDARD
TZOFFSETFROM:+0200
TZOFFSETTO:+0100
TZNAME:CET
DTSTART:20201025T010000
END:STANDARD
BEGIN:DAYLIGHT
TZOFFSETFROM:+0100
TZOFFSETTO:+0200
TZNAME:CEST
DTSTART:20210328T010000
END:DAYLIGHT
BEGIN:STANDARD
TZOFFSETFROM:+0200
TZOFFSETTO:+0100
TZNAME:CET
DTSTART:20211031T010000
END:STANDARD
BEGIN:DAYLIGHT
TZOFFSETFROM:+0100
TZOFFSETTO:+0200
TZNAME:CEST
DTSTART:20220327T010000
END:DAYLIGHT
BEGIN:STANDARD
TZOFFSETFROM:+0200
TZOFFSETTO:+0100
TZNAME:CET
DTSTART:20221030T010000
END:STANDARD
BEGIN:DAYLIGHT
TZOFFSETFROM:+0100
TZOFFSETTO:+0200
TZNAME:CEST
DTSTART:20230326T010000
END:DAYLIGHT
BEGIN:STANDARD
TZOFFSETFROM:+0200
TZOFFSETTO:+0100
TZNAME:CET
DTSTART:20231029T010000
END:STANDARD
END:VTIMEZONE
BEGIN:VEVENT
DTSTART;VALUE=DATE:20211011
DTEND;VALUE=DATE:20211211
DTSTAMP:20260422T184142
CREATED:20211013T094636Z
LAST-MODIFIED:20251031T153530Z
UID:21851-1633910400-1639180799@www.unicaen.fr
SUMMARY:Exposition I AM WHAT I AM
DESCRIPTION:« Comment se représenter\, se mettre en scène dans une période où l’on se retrouve isolé derrière son écran ? »D’octobre 2020 à mars 2021\, des étudiant·e·s du programme DUPEX du Carré international (D.U. passerelle pour étudiants en exil) et la Compagnie Le Ballon Vert ont échangé chaque semaine autour de la notion de portrait et d’autoportrait. Les 9 autoportraits réalisés sont exposés dans le Hall de la Maison des langues et de l’international. \nProjet réalisé dans le cadre  du projet européen Getting Unstuck\, en partenariat avec la Compagnie du Ballon vert et du Théâtre de la Renaissance\, et co-financé par la Direction régionale des affaires culturelles et le Carré international de l’université de Caen Normandie.
URL:https://www.unicaen.fr/evenement/exposition-i-am-what-i-am/
LOCATION:Caen · Campus 1 · Maison des langues et de l’international (MLI)\, Carré international - Maison des langues et de l'international\, Caen\, 14000\, France
CATEGORIES:Exposition
ATTACH;FMTTYPE=image/jpeg:https://www.unicaen.fr/wp-content/uploads/2021/10/Affiche-expo-I-AM-WHAT-I-AM-1.jpg
END:VEVENT
BEGIN:VEVENT
DTSTART;VALUE=DATE:20211020
DTEND;VALUE=DATE:20220127
DTSTAMP:20260422T184142
CREATED:20210929T072135Z
LAST-MODIFIED:20211018T091033Z
UID:20783-1634688000-1643241599@www.unicaen.fr
SUMMARY:Atelier d'écriture à distance | Saison 2 - Territoires d'écritures
DESCRIPTION:Vous êtes étudiant(e) de l’université de Caen Normandie ? \nAprès le succès de la première saison\, l’université vous propose de participer à nouveau tout au long du premier semestre à un atelier d’écriture à distance dirigé par l’auteur Samuel Gallet et le comédien Pierre Morice\, en partenariat avec la Comédie de Caen. \nLe principe : chaque mercredi de 18h30 à 20h30 via un lien zoom\, Samuel Gallet invite 20 étudiant(es) à participer à ces séances d’écriture qu’il définit « comme un espace de fabrication littéraire et théâtrale commun\, où nous pourrons collectivement par l’écriture nous représenter et donner à voir le monde actuel. » Une restitution des ateliers\, temps fort de la vie culturelle à l’université\, est attendue à l’occasion des Nuits de la lecture (20-23 janvier 2022). \nInscription : sans prérequis\, en complétant le formulaire d’inscription dans la limite des places disponibles (liste principale : 10 places réservées aux étudiant(e)s des campus de l’agglomération caennaise\, 10 places réservées aux étudiant(e)s des campus distants\, et ouverture d’une liste complémentaire). \nPour s’inscrire : https://enquetes.unicaen.fr/index.php/986766?lang=fr \nPlus d’infos : culture@unicaen.fr
URL:https://www.unicaen.fr/evenement/atelier-decriture-a-distance-saison-2-territoires-decritures/
ATTACH;FMTTYPE=image/jpeg:https://www.unicaen.fr/wp-content/uploads/2021/09/Samuel-Gallet.jpg
END:VEVENT
BEGIN:VEVENT
DTSTART;VALUE=DATE:20211107
DTEND;VALUE=DATE:20211110
DTSTAMP:20260422T184142
CREATED:20210312T105003Z
LAST-MODIFIED:20210526T091507Z
UID:13132-1636243200-1636502399@www.unicaen.fr
SUMMARY:Congrès Ultra endurance et conditions extrêmes : adaptations\, performances et santé
DESCRIPTION:L’objectif du congrès est de présenter les dernières connaissances scientifiques et innovations technologiques portant sur les paramètres contribuant à la performance dans les sports d’ultra-endurance ou dans l’exploration des milieux extrêmes. Ainsi\, dans des disciplines telles que le l’ultra Marathon\, les courses à la voile\, la nage en eau libre\, les cyclo-sportives ultra longues\, les expéditions en milieux extrêmes\, nous aborderons des thématiques autour de la thermorégulation\, la privation de sommeil\, la fatigue\, les impacts sur la santé\, les blessures\, les conduites addictives\, les déterminants de la motivation\, les évolutions de la pratique depuis la crise sanitaire de la Covid-19\, les technologies innovantes permettant d’améliorer la performances\, la nutrition… \nProgramme\nLa manifestation scientifique sera ouverte au public le dimanche 7 novembre (sur inscription) et abordera ces problématiques sous un angle très pédagogique et interactif en présence de conférenciers chercheurs\, de pratiquants et athlètes de haut niveau. \nLes journées du lundi et du mardi seront organisées autour de symposiums et les organisateurs souhaitent valoriser les études universitaires par des prix « Jeunes Chercheurs ». \nAppel à communication\nLes propositions de communications orales ou affichées dans la thématique de ce congrès et des symposiums proposés sont à déposer sur le site du congrès avant le 12 septembre 2021. \nContact\ncongres-ultra-endurance@unicaen.fr
URL:https://www.unicaen.fr/evenement/congres-ultra-endurance-et-conditions-extremes-adaptations-performances-et-sante/
LOCATION:Caen · Campus 1 · Bâtiment B\, Bâtiment B\, Esplanade de la Paix\, Caen\, 14000\, France
CATEGORIES:Biologie intégrative, imagerie, santé, environnement,Congrès - Colloque
ATTACH;FMTTYPE=image/png:https://www.unicaen.fr/wp-content/uploads/2021/03/607-417-max.png
ORGANIZER;CN="COMETE (UMR-S 1075)":MAILTO:comete.secretariat@unicaen.fr
END:VEVENT
BEGIN:VEVENT
DTSTART;TZID=Europe/Paris:20211108T100000
DTEND;TZID=Europe/Paris:20211108T120000
DTSTAMP:20260422T184142
CREATED:20211008T114813Z
LAST-MODIFIED:20211008T114813Z
UID:21607-1636365600-1636372800@www.unicaen.fr
SUMMARY:Atelier Rebondir
DESCRIPTION:Réorientation\nModalités\n\nDurée : 2h\nPublic : licence 1\, BUT 1\, CPGE 1\nSelon les dates\, l’atelier se déroulera en présentiel ou en distanciel (21 oct. – 25 nov. – 1er fév.)\n\nObjectifs\n\nFaire le bilan de ses expériences et de son arrivée à l’université\nAmorcer une réflexion autour du projet d’orientation\nS’approprier les différentes possibilités d’études supérieures et les procédures de candidature pour y parvenir\n\nInscription\nInscription obligatoire en ligne via le Career center\nNombre de places limité \nProchaines dates\n\nLundi 15 novembre 2021 – 10h-12h\nJeudi 18 novembre 2021 – 10h-12h\nMardi 23 novembre 2021 – 10h-12h\nJeudi 25 novembre 2021 – 10h-12h – En visio\nVendredi 21 janvier 2022 – 10h-12h\nMercredi 26 janvier 2022 – 10h-12h\nMardi 1er février 2022 – 10h-12h – En visio\nJeudi 10 février 2022 – 10h-12h\nJeudi 24 février 2022 – 10h-12h\nVendredi 4 mars 2022 – 10h-12h\nJeudi 16 juin 2022 – 10h-12h\nMercredi 29 juin 2022 – 10h-12h\nMardi 5 juillet 2022 – 10h-12h\n\n 
URL:https://www.unicaen.fr/evenement/atelier-rebondir-5/
LOCATION:Caen · Campus 1 · Bâtiment B\, Bâtiment B\, Esplanade de la Paix\, Caen\, 14000\, France
CATEGORIES:Orientation
ORGANIZER;CN="Espace orientation insertion (EOI)":MAILTO:orientationinsertion@unicaen.fr
END:VEVENT
BEGIN:VEVENT
DTSTART;TZID=Europe/Paris:20211108T190000
DTEND;TZID=Europe/Paris:20211108T230000
DTSTAMP:20260422T184142
CREATED:20211026T065008Z
LAST-MODIFIED:20211026T065008Z
UID:22326-1636398000-1636412400@www.unicaen.fr
SUMMARY:Cinéma | De la musique pour le cerveau
DESCRIPTION:d’Isabelle Raynauld | 1h18 | Documentaire \nProjection précédée d’un accueil par la fanfare des étudiantes en santé « Café-Calva Caennexion » suivie d’un échange avec la réalisatrice Isabelle Raynauld à l’initiative de l’association Musilience. \nMusilience\, association interprofessionnelle\, a pour objet d’informer le public sur les liens entre la musique et la santé en proposant du contenu sur la thématique et en organisant notamment des conférences\, ateliers\, concerts-débats\, cinés-débats et autres événements culturels et/ou scientifiques\, en ligne et en présentiel. Ce premier évènement inaugure la création de l’association et ouvre son cycle annuel de manifestations. \nLes pouvoirs de la musique sur l’être humain sont immenses et leurs bienfaits méritent d’être reconnus et surtout entendus. De la musique pour le cerveau nous permet de découvrir les recherches de pointe en neurosciences musicales à travers les histoires vécues de gens pour qui la musique a réussi là où d’autres thérapies n’ont pas porté fruit. L’alternance entre les recherches neuroscientifiques\, le travail soignant des musicothérapeutes en séances cliniques avec des patients et les récits de vies de personnes qui ont à jamais été transformées par la musique forment le coeur de ce film qui se met à l’écoute des gens et des musiques qui les ont sauvés. \nEntrée gratuite sur inscription et sur présentation du passe sanitaire.
URL:https://www.unicaen.fr/evenement/cinema-de-la-musique-pour-le-cerveau/
LOCATION:Caen · Campus 5 · PFRS (Pôle des formations et de recherche en santé)\, UFR Santé\, 2 Rue des Rochambelles\, Caen\, 14032\, France
CATEGORIES:Projection - Cinéma
ATTACH;FMTTYPE=image/jpeg:https://www.unicaen.fr/wp-content/uploads/2021/10/de-la-musique-pour-le-cerveau.jpg
END:VEVENT
BEGIN:VEVENT
DTSTART;TZID=Europe/Paris:20211108T200000
DTEND;TZID=Europe/Paris:20211108T220000
DTSTAMP:20260422T184142
CREATED:20211019T092129Z
LAST-MODIFIED:20250422T073257Z
UID:21941-1636401600-1636408800@www.unicaen.fr
SUMMARY:Cinéma | Off the record
DESCRIPTION:de Gabin Rivoire| Documentaire | 1h30min \nEn présence de Laurent Garnier \nRetour sur les trente ans de carrière du DJ Laurent Garnier\, devenu l’une des icônes de la musique électronique après en avoir été l’un des pionniers. De New York à Tokyo\, de Hong-Kong à Détroit ou Londres\, Garnier a fait danser les foules du monde entier. Avec en filigrane\, le sentiment que le mouvement musical qu’il a contribué à fonder a rythmé les grandes évolutions sociétales des dernières décennies. \nProjection suivie d’une rencontre avec le réalisateur Gabin Rivoire ainsi que Laurent GARNIER \nEn partenariat avec Arts Attack ! \nPass sanitaire obligatoire \nRéservation \nTarif réduit : 4€50\nTarif plein : 5€50
URL:https://www.unicaen.fr/evenement/cinema-off-the-record/
LOCATION:Caen · Campus 1 · Bâtiment P · Amphi Pierre Daure\, Amphithéâtre Pierre Daure\, Esplanade de la Paix\, Caen\, 14000\, France
CATEGORIES:Projection - Cinéma
ATTACH;FMTTYPE=image/jpeg:https://www.unicaen.fr/wp-content/uploads/2021/10/Off-the-record.jpg
END:VEVENT
END:VCALENDAR