BEGIN:VCALENDAR
VERSION:2.0
PRODID:-//Université de Caen Normandie - ECPv6.15.18//NONSGML v1.0//EN
CALSCALE:GREGORIAN
METHOD:PUBLISH
X-WR-CALNAME:Université de Caen Normandie
X-ORIGINAL-URL:https://www.unicaen.fr
X-WR-CALDESC:Évènements pour Université de Caen Normandie
REFRESH-INTERVAL;VALUE=DURATION:PT1H
X-Robots-Tag:noindex
X-PUBLISHED-TTL:PT1H
BEGIN:VTIMEZONE
TZID:Europe/Paris
BEGIN:DAYLIGHT
TZOFFSETFROM:+0100
TZOFFSETTO:+0200
TZNAME:CEST
DTSTART:20200329T010000
END:DAYLIGHT
BEGIN:STANDARD
TZOFFSETFROM:+0200
TZOFFSETTO:+0100
TZNAME:CET
DTSTART:20201025T010000
END:STANDARD
BEGIN:DAYLIGHT
TZOFFSETFROM:+0100
TZOFFSETTO:+0200
TZNAME:CEST
DTSTART:20210328T010000
END:DAYLIGHT
BEGIN:STANDARD
TZOFFSETFROM:+0200
TZOFFSETTO:+0100
TZNAME:CET
DTSTART:20211031T010000
END:STANDARD
BEGIN:DAYLIGHT
TZOFFSETFROM:+0100
TZOFFSETTO:+0200
TZNAME:CEST
DTSTART:20220327T010000
END:DAYLIGHT
BEGIN:STANDARD
TZOFFSETFROM:+0200
TZOFFSETTO:+0100
TZNAME:CET
DTSTART:20221030T010000
END:STANDARD
END:VTIMEZONE
BEGIN:VEVENT
DTSTART;VALUE=DATE:20211001
DTEND;VALUE=DATE:20211031
DTSTAMP:20260420T182436
CREATED:20210914T153629Z
LAST-MODIFIED:20210930T084417Z
UID:19904-1633046400-1635638399@www.unicaen.fr
SUMMARY:Exposition Images de science
DESCRIPTION:Venez découvrir une sélection d’images de la recherche issue des laboratoires universitaires. Cette exposition « Images de science » en plein air est une réalisation de l’université à l’occasion des 30 ans de la Fête de la science. \nDes tirages grand format exposés en extérieur\nSurprenantes\, curieuses\, drôles\, émouvantes ou énigmatiques… ces images nous interpellent et chacune d’elles raconte une histoire. \nCe sont les histoires de nos laboratoires\, des femmes et des hommes qui font avancer la science et accroître notre connaissance du monde. \nDes articles pour aller plus loin\nChaque image a sa légende et un article plus détaillé à retrouver en ligne et dans le journal de la recherche\, Prisme. \nOù la trouver ?\nL’exposition est visible sur le campus 1\, derrière la Galerie vitrée\, le long des deux chemins montant vers la MRSH et la Crèche.
URL:https://www.unicaen.fr/evenement/exposition-images-de-science/
LOCATION:Caen · Campus 1 · Bâtiment B\, Bâtiment B\, Esplanade de la Paix\, Caen\, 14000\, France
CATEGORIES:Exposition,Fête de la science,Recherche
ATTACH;FMTTYPE=image/jpeg:https://www.unicaen.fr/wp-content/uploads/2021/09/Icono-expo-images-de-science_jb.jpg
END:VEVENT
BEGIN:VEVENT
DTSTART;VALUE=DATE:20211011
DTEND;VALUE=DATE:20211211
DTSTAMP:20260420T182436
CREATED:20211013T094636Z
LAST-MODIFIED:20251031T153530Z
UID:21851-1633910400-1639180799@www.unicaen.fr
SUMMARY:Exposition I AM WHAT I AM
DESCRIPTION:« Comment se représenter\, se mettre en scène dans une période où l’on se retrouve isolé derrière son écran ? »D’octobre 2020 à mars 2021\, des étudiant·e·s du programme DUPEX du Carré international (D.U. passerelle pour étudiants en exil) et la Compagnie Le Ballon Vert ont échangé chaque semaine autour de la notion de portrait et d’autoportrait. Les 9 autoportraits réalisés sont exposés dans le Hall de la Maison des langues et de l’international. \nProjet réalisé dans le cadre  du projet européen Getting Unstuck\, en partenariat avec la Compagnie du Ballon vert et du Théâtre de la Renaissance\, et co-financé par la Direction régionale des affaires culturelles et le Carré international de l’université de Caen Normandie.
URL:https://www.unicaen.fr/evenement/exposition-i-am-what-i-am/
LOCATION:Caen · Campus 1 · Maison des langues et de l’international (MLI)\, Carré international - Maison des langues et de l'international\, Caen\, 14000\, France
CATEGORIES:Exposition
ATTACH;FMTTYPE=image/jpeg:https://www.unicaen.fr/wp-content/uploads/2021/10/Affiche-expo-I-AM-WHAT-I-AM-1.jpg
END:VEVENT
BEGIN:VEVENT
DTSTART;TZID=Europe/Paris:20211013T133000
DTEND;TZID=Europe/Paris:20211013T173000
DTSTAMP:20260420T182436
CREATED:20211006T125841Z
LAST-MODIFIED:20231012T063804Z
UID:21382-1634131800-1634146200@www.unicaen.fr
SUMMARY:Relecture CV & lettre
DESCRIPTION:CV & lettre : relecture\nModalités\n\n 	En présentiel\n 	Durée : 15 minutes ou en fonction des besoins\n 	Public : candidats à un stage\, à une alternance ou à un emploi.\n\nObjectifs\n\n 	Intégrer le point de vue du recruteur\n 	Identifier les critères clés d’un CV et d’une lettre de motivation efficace\n 	Echanger pour améliorer ses CV & lettres\n\nInscription\nPas de limite de places.\nProchaines dates\n\n 	Mardi 9 novembre 2021 – 13h30-17h30\n 	Jeudi 16 décembre 2021 – 13h30-17h30\n 	Lundi 10 janvier 2022 – 13h30-17h30\n 	Mercredi 16 février 2022 – 13h30-17h30\n 	Mercredi 16 mars 2022 – 13h30-17h30\n 	Jeudi 14 avril 2022 – 13h30-17h30\n 	Mercredi 18 mai 2022 – 13h30-17h30\n 	Lundi 13 juin 2022 – 13h30-17h30\n\n\n\n\n
URL:https://www.unicaen.fr/evenement/atelier-relecture-cv-lettre/
LOCATION:Caen · Campus 1 · Bâtiment B\, Bâtiment B\, Esplanade de la Paix\, Caen\, 14000\, France
CATEGORIES:Orientation
ORGANIZER;CN="Espace orientation insertion (EOI)":MAILTO:orientationinsertion@unicaen.fr
END:VEVENT
END:VCALENDAR