BEGIN:VCALENDAR
VERSION:2.0
PRODID:-//Université de Caen Normandie - ECPv6.15.18//NONSGML v1.0//EN
CALSCALE:GREGORIAN
METHOD:PUBLISH
X-WR-CALNAME:Université de Caen Normandie
X-ORIGINAL-URL:https://www.unicaen.fr
X-WR-CALDESC:Évènements pour Université de Caen Normandie
REFRESH-INTERVAL;VALUE=DURATION:PT1H
X-Robots-Tag:noindex
X-PUBLISHED-TTL:PT1H
BEGIN:VTIMEZONE
TZID:Europe/Paris
BEGIN:DAYLIGHT
TZOFFSETFROM:+0100
TZOFFSETTO:+0200
TZNAME:CEST
DTSTART:20200329T010000
END:DAYLIGHT
BEGIN:STANDARD
TZOFFSETFROM:+0200
TZOFFSETTO:+0100
TZNAME:CET
DTSTART:20201025T010000
END:STANDARD
BEGIN:DAYLIGHT
TZOFFSETFROM:+0100
TZOFFSETTO:+0200
TZNAME:CEST
DTSTART:20210328T010000
END:DAYLIGHT
BEGIN:STANDARD
TZOFFSETFROM:+0200
TZOFFSETTO:+0100
TZNAME:CET
DTSTART:20211031T010000
END:STANDARD
BEGIN:DAYLIGHT
TZOFFSETFROM:+0100
TZOFFSETTO:+0200
TZNAME:CEST
DTSTART:20220327T010000
END:DAYLIGHT
BEGIN:STANDARD
TZOFFSETFROM:+0200
TZOFFSETTO:+0100
TZNAME:CET
DTSTART:20221030T010000
END:STANDARD
END:VTIMEZONE
BEGIN:VEVENT
DTSTART;VALUE=DATE:20210702
DTEND;VALUE=DATE:20210928
DTSTAMP:20260420T060911
CREATED:20210916T081631Z
LAST-MODIFIED:20220412T132425Z
UID:20007-1625184000-1632787199@www.unicaen.fr
SUMMARY:Appel à projet "Initiatives étudiantes" · APIE
DESCRIPTION:L’APIE a pour objectif d’encourager les initiatives étudiantes à l’échelle du site normand et de susciter une véritable émulation régionale en matière de vie étudiante. En cette période particulière\, la commission APIE souhaite valoriser les initiatives étudiantes mises en place suite à la crise sanitaire. Il s’agit d’accompagner en priorité les projets de chaînes de solidarités\, de mobilisation d’étudiants\, de programmation culturelle ou sportive\, d’accueil des étudiants internationaux etc. \nCette prochaine session aura lieu le lundi 4 octobre et concerne des initiatives qui devront avoir lieu entre le lundi 4 octobre et le mercredi 17 novembre 2021 inclus. Vous pouvez candidater jusqu’au lundi 27 septembre 2021 au plus tard. \nLes projets proposés peuvent être de nature très diverse : activité sportive ou culturelle (y compris de culture scientifique\, technique et industrielle) ; exposition ; conférence ; projection-débat ; action humanitaire\, caritative ou solidaire ; développement durable ; accueil des étudiants internationaux ; citoyenneté… Ils peuvent contribuer à la dynamisation des campus normands\, proposer une réflexion innovante sur la société ou déployer une action de diffusion et de valorisation des savoirs. Ils peuvent également porter sur des actions d’insertion professionnelle ou de promotion de l’innovation et de l’esprit d’entreprise. Les projets tutorés sont éligibles\, à condition qu’une part de leur financement soit apportée par une composante (pour les universités) ou un département (pour les écoles) d’un établissement membre de Normandie Université. \nRetrouvez toutes les informations concernant l’APIE
URL:https://www.unicaen.fr/evenement/appel-a-projet-initiatives-etudiantes-%c2%b7-apie/
CATEGORIES:Vie de campus
ATTACH;FMTTYPE=image/jpeg:https://www.unicaen.fr/wp-content/uploads/2021/09/VieEtudiante.jpg
END:VEVENT
BEGIN:VEVENT
DTSTART;TZID=Europe/Paris:20210920T140000
DTEND;TZID=Europe/Paris:20210924T170000
DTSTAMP:20260420T060911
CREATED:20210914T090356Z
LAST-MODIFIED:20230720T145111Z
UID:19856-1632146400-1632502800@www.unicaen.fr
SUMMARY:Semaine de la mémoire
DESCRIPTION:La 4e édition de la Semaine de la Mémoire se déroulera à Caen et Tours du 20 au 24 septembre 2021. Une semaine où le grand public est convié à venir explorer la mémoire sous toutes sesformes\, au travers de plusieurs événements gratuits : conférences\, ateliers et projections. \nD’éminents spécialistes viendront à la rencontre du public. Leur mission est de diffuser leurs connaissances et ainsi de permettre au plus grand nombre de mieux connaître la mémoire. \nÀ Caen\, la Semaine de la mémoire est organisée par la MRSH (CNRS\, université de Caen Normandie)\, avec le soutien de l’Observatoire B2V des mémoires\, à l’initiative de cet événement. \nEntrée libre (dans le respect des règles sanitaires) – gratuit
URL:https://www.unicaen.fr/evenement/semaine-de-la-memoire/
LOCATION:Caen · Campus 1 · Bâtiment B\, Bâtiment B\, Esplanade de la Paix\, Caen\, 14000\, France
CATEGORIES:Recherche
ATTACH;FMTTYPE=image/jpeg:https://www.unicaen.fr/wp-content/uploads/2021/09/semaine-memoire.jpg
END:VEVENT
BEGIN:VEVENT
DTSTART;TZID=Europe/Paris:20210921T100000
DTEND;TZID=Europe/Paris:20210921T170000
DTSTAMP:20260420T060911
CREATED:20210910T141417Z
LAST-MODIFIED:20260325T110700Z
UID:19792-1632218400-1632243600@www.unicaen.fr
SUMMARY:Village des associations & des partenaires · campus 2
DESCRIPTION:Associations étudiantes et professionnels de la santé viennent à votre rencontre le 21 septembre sur le campus 2 de Caen.\n\nC’est l’occasion pour vous de découvrir\, d’échanger et pourquoi pas vous engager durant vos études !\n Mardi 21 septembre\, de 10h à 17h\, à Caen sur le campus 2\n\n 	Associations étudiantes : Association de la fondation étudiante pour la ville · AFEV\, BDE STAPS\, Bureaux d’aide aux étudiants · BAE\, Caen Muggle Quidditch\, Corpo Sciences\, FCBN\, Normandie doc’\, Tutorat santé\, Uni Caen\n 	Professionnels de la santé : Service universitaire de médecine préventive et de la promotion de la santé · SSE\, Bureaux d’aide psychologique universitaire\, Addiction France\, CPAM\n\nPratique :\n\n 	entrée libre et gratuite pour tous les étudiants de l’université de Caen Normandie\n 	le port du masque n’est pas obligatoire en extérieur\, mais est vivement recommandé en cas de forte densité de population au sein du village\n\n\n\n\n
URL:https://www.unicaen.fr/evenement/village-des-associations-des-partenaires/
LOCATION:Caen · Campus 2\, Campus 2\, Avenue de la Côte de Nacre\, Caen\, 14000\, France
CATEGORIES:Vie de campus
ATTACH;FMTTYPE=image/jpeg:https://www.unicaen.fr/wp-content/uploads/2020/10/15-09-24-rentree-culturelle.jpg
END:VEVENT
BEGIN:VEVENT
DTSTART;TZID=Europe/Paris:20210921T100000
DTEND;TZID=Europe/Paris:20210921T180000
DTSTAMP:20260420T060911
CREATED:20210827T132958Z
LAST-MODIFIED:20250307T075515Z
UID:19455-1632218400-1632247200@www.unicaen.fr
SUMMARY:Journée de vaccination sur le campus 2 · Caen
DESCRIPTION:\nbâtiment Sciences 3 · S3 037\ngratuit & sans rendez-vous\nuniquement réservé aux étudiants et personnels UNICAEN\ncarte vitale / carte européenne d’assurance maladie et carte d’identité obligatoires *\nune pause de 14h à 15h est programmée pour le personnel médical\, aucune vaccination ne sera effectuée pendant cette heure.\n\nQuestionnaire de vaccination à pré-remplir \nAutorisation parentale dans le cadre de la vaccination contre le COVID-19 \n\n\n\nPlan du campus 2 · Caen \nRetrouvez tous les centre de vaccination sur normandie.ars.sante.fr \n* étudiants internationaux :– étudiants internationaux en ré-inscription > carte vitale / attestation d’affiliation CPAM et pièce d’identité– étudiants internationaux nouvellement arrivés en France > Léocarte / certificat de scolarité UNICAEN et pièce d’identité 
URL:https://www.unicaen.fr/evenement/journee-de-vaccination-sur-le-campus-2--caen/
LOCATION:Caen · Campus 2\, Campus 2\, Avenue de la Côte de Nacre\, Caen\, 14000\, France
CATEGORIES:Santé,Université
ATTACH;FMTTYPE=image/jpeg:https://www.unicaen.fr/wp-content/uploads/2021/08/Gouv-ESRI_vaccins_covid_03.jpg
END:VEVENT
BEGIN:VEVENT
DTSTART;TZID=Europe/Paris:20210921T200000
DTEND;TZID=Europe/Paris:20210921T200000
DTSTAMP:20260420T060911
CREATED:20210903T083211Z
LAST-MODIFIED:20220131T112711Z
UID:19635-1632254400-1632254400@www.unicaen.fr
SUMMARY:Projection de Bigger than us
DESCRIPTION:Dans le cadre de la Semaine européenne du Développement Durable\, l’université de Caen Normandie\, l’association Lex Cadomus et le Café des images vous proposent une soirée autour du film Bigger Than Us ! La projection sera suivie d’une rencontre. \nBigger than us\, de Flore Vasseurdocumentaire français\, 2021 – 1h36 \nDepuis 6 ans\, Melati\, 18 ans combat la pollution plastique qui ravage son pays l’Indonésie. Comme elle\, une génération se lève pour réparer le monde. Partout\, adolescents et jeunes adultes luttent pour les droits humains\, le climat\, la liberté d’expression\, la justice sociale\, l’accès à l’éducation ou l’alimentation. La dignité. Seuls contre tous\, parfois au péril de leur vie et sécurité\, ils protègent\, dénoncent\, soignent les autres. La Terre. Et ils changent tout. \nMelati part à leur rencontre à travers le globe. Elle veut comprendre comment tenir et poursuivre son action. Des favelas de Rio aux villages reculés du Malawi\, des embarcations de fortune au large de l’île de Lesbos aux cérémonies amérindiennes dans les montagnes du Colorado\, Rene\, Mary\, Xiu\, Memory\, Mohamad et Winnie nous révèlent un monde magnifique\, celui du courage et de la joie\, de l’engagement pour plus grand que soi. Alors que tout semble ou s’est effondré\, cette jeunesse nous montre comment vivre. Et ce qu’être au monde\, aujourd’hui\, signifie. \n\nPass sanitaire obligatoire \nGratuit pour les étudiants\, inscription obligatoire via ce formulaire en ligne. \nTarif habituel pour les autres : 4\,50€ personnels université ou 5\,50€.
URL:https://www.unicaen.fr/evenement/projection-de-bigger-than-us/
LOCATION:Caen · Campus 1 · Bâtiment P · Amphi Pierre Daure\, Amphithéâtre Pierre Daure\, Esplanade de la Paix\, Caen\, 14000\, France
CATEGORIES:Projection - Cinéma
ATTACH;FMTTYPE=image/jpeg:https://www.unicaen.fr/wp-content/uploads/2021/09/bigger-than-us.jpg
END:VEVENT
END:VCALENDAR